BEGIN:VCALENDAR
VERSION:2.0
PRODID:-//Državna škola za javnu upravu - ECPv6.6.4.1//NONSGML v1.0//EN
CALSCALE:GREGORIAN
METHOD:PUBLISH
X-ORIGINAL-URL:https://www.dsju.hr
X-WR-CALDESC:Events for Državna škola za javnu upravu
REFRESH-INTERVAL;VALUE=DURATION:PT1H
X-Robots-Tag:noindex
X-PUBLISHED-TTL:PT1H
BEGIN:VTIMEZONE
TZID:Europe/Zagreb
BEGIN:DAYLIGHT
TZOFFSETFROM:+0100
TZOFFSETTO:+0200
TZNAME:CEST
DTSTART:20260329T010000
END:DAYLIGHT
BEGIN:STANDARD
TZOFFSETFROM:+0200
TZOFFSETTO:+0100
TZNAME:CET
DTSTART:20261025T010000
END:STANDARD
END:VTIMEZONE
BEGIN:VEVENT
DTSTART;TZID=Europe/Zagreb:20260414T090000
DTEND;TZID=Europe/Zagreb:20260527T130000
DTSTAMP:20260426T050818
CREATED:20260225T080003Z
LAST-MODIFIED:20260414T070000Z
UID:10001216-1776157200-1779886800@www.dsju.hr
SUMMARY:Mindfulness - mentalni trening
DESCRIPTION:Modul 1. Zaokret u novi način upravljanja stresom \n\nPolaznici će osvijestiti kako vanjske okolnosti uzrokuju njihov stres i kako se umjesto borbe s vanjskim okolnostima (na koje često ne možemo utjecati) preusmjeriti na svoju unutarnju otpornost i dobrobit. Polaznici dobivaju kratke vježbe kojima će to postići\, a kojima se mogu koristiti na radnom mjestu\, na pauzama\, za trenutno umirivanje ili u stresnim situacijama. \n\nModul 2. Preopterećen um\, napetost u tijelu \n\nPolaznici kroz ovaj modul uče kako uspostaviti ravnotežu između uma i tijela te adekvatno reagirati na rane znakove disbalansa kako bi se prevenirao razvoj zahtjevnijih stanja. \n\n Modul 3. Unutarnja dobrobit i nošenje s (neželjenim) mislima\n\nPolaznici uče kako postupiti u stresnim situacijama kako bi umanjili njihov negativan efekt takvih i spriječili ih da se protegnu na cijeli dan i kronično akumuliraju u tijelu. Također uče kako se nositi s neželjenim mislima. \n\nModul 4. Samoregulacija stresa – kako s emocijama?\n\nPolaznici uče kako automatsko i impulzivno reagiranje zamijeniti svjesno izabranim odgovorom na situaciju te praktičnim vježbama jačaju unutarnju sposobnost za isto. \n\nModul 5. Prijateljski odnos prema sebi i rebalansiranje navika\n\nPolaznici uče primjenjivati usvojene alate u situacijama samokritičnosti te kako prakticirati prijateljski i suosjećajan odnos prema sebi i drugima uz doprinos kvaliteti međuljudskih odnosa i radne atmosfere. \n\n Modul 6. Vaš dragocjeni život: Što dalje? \n\nPolaznici će primijeniti usvojene alate na vođenje svjesnih sastanaka i unapređenje kvalitete svojih komunikacijskih vještina i odnosa te postaviti osobni plan za nastavak primjene i održavanja naučenog.
URL:https://www.dsju.hr/event/mindfulness-mentalni-trening-3/
ORGANIZER:MAILTO:katarina.svetina@dsju.hr
END:VEVENT
BEGIN:VEVENT
DTSTART;TZID=Europe/Zagreb:20260420T090000
DTEND;TZID=Europe/Zagreb:20260420T123000
DTSTAMP:20260426T050818
CREATED:20260330T080003Z
LAST-MODIFIED:20260420T070000Z
UID:10001260-1776675600-1776688200@www.dsju.hr
SUMMARY:Usavršavanje matičara
DESCRIPTION:Novine u propisima\nZaštita osobnih podataka\nEU uredbe i njihova primjena\nKorištenje e-usluga
URL:https://www.dsju.hr/event/usavrsavanje-maticara-4/
ORGANIZER:MAILTO:katarina.svetina@dsju.hr
END:VEVENT
BEGIN:VEVENT
DTSTART;TZID=Europe/Zagreb:20260420T090000
DTEND;TZID=Europe/Zagreb:20260420T163000
DTSTAMP:20260426T050818
CREATED:20260415T100003Z
LAST-MODIFIED:20260420T070000Z
UID:10001272-1776675600-1776702600@www.dsju.hr
SUMMARY:Timska povezanost i suradnja
DESCRIPTION:Karakteristike tima\nKljučni faktori uspješnih i neuspješnih timova\nModel razvoja tima i životni ciklus timova\nTimska kultura\nTimske uloge\nKomunikacija i povjerenje u timu
URL:https://www.dsju.hr/event/timska-povezanost-i-suradnja-11/
ORGANIZER:MAILTO:katarina.svetina@dsju.hr
END:VEVENT
BEGIN:VEVENT
DTSTART;TZID=Europe/Zagreb:20260420T090000
DTEND;TZID=Europe/Zagreb:20260421T144500
DTSTAMP:20260426T050818
CREATED:20260417T100003Z
LAST-MODIFIED:20260420T070000Z
UID:10001273-1776675600-1776782700@www.dsju.hr
SUMMARY:Osnove nomotehnike
DESCRIPTION:Sadržaj Jedinstvenih metodološko-nomotehničkih pravila za izradu akata koje donosi Hrvatski sabor(“Narodne novine” broj 74/2015)\nSubjekti primjene jedinstvenih metodološko-nomotehničkih pravila\, s posebnim osvrtom na primjenu tih pravila pri donošenju propisa jedinica lokalne i područne (regionalne) samouprave\nVrste i hijerarhija propisa i drugih akata na koje se pri izradi primjenjuju jedinstvena nomotehnička pravila\nUkratko o odnosu nacionalnog zakonodavstva prema EU zakonodavstvu\nNačela ustavnosti\, zakonitosti i vladavine prava\nSadržaj struktura propisa\nOblik (forma) propisa\nJezik\, stil i način pisanja propisa\nPregled jedinstvenih pravila  za izmjene\, dopune i brisanje odredaba ili dijelova propisa
URL:https://www.dsju.hr/event/osnove-nomotehnike-12/
ORGANIZER:MAILTO:katarina.svetina@dsju.hr
END:VEVENT
BEGIN:VEVENT
DTSTART;TZID=Europe/Zagreb:20260420T090000
DTEND;TZID=Europe/Zagreb:20260421T160000
DTSTAMP:20260426T050818
CREATED:20260218T080003Z
LAST-MODIFIED:20260326T080000Z
UID:10001204-1776675600-1776787200@www.dsju.hr
SUMMARY:Otvorena vlast: modeli suradnje i međunarodne dobre prakse
DESCRIPTION:Što je otvorena vlast?\nNačela otvorene vlasti (transparentnost\, odgovornost i participacija)\nRasprava: Zašto je otvorena vlast važna za javnu upravu?\nInicijativa Partnerstvo za otvorenu vlast (POV): povijest inicijative\, ciljevi i ključni principi\nNačelo transparentnosti: temelj otvorene vlasti\nNačelo transparentnosti u praksi\nSuradnja s civilnim društvom: modeli suradnje civilnog društva i javnih tijela u Hrvatskoj i dobre prakse\nGrađanska participacija u praksi: alati za uključivanje građana u donošenje odluka (javno savjetovanje\, participativni proračuni)\nOdgovornost i integritet u praksi (mehanizmi odgovornosti)\nPlan djelovanja: kako unijeti načela otvorene vlasti u vlastiti rad?–    simulacija izrade plana djelovanja za vlastitu instituciju–    rasprava o izazovima provedbe\nRefleksija o naučenom
URL:https://www.dsju.hr/event/otvorena-vlast-modeli-suradnje-i-medunarodne-dobre-prakse-7/
ORGANIZER:MAILTO:katarina.svetina@dsju.hr
END:VEVENT
END:VCALENDAR