BEGIN:VCALENDAR
VERSION:2.0
PRODID:-//Državna škola za javnu upravu - ECPv6.6.4.1//NONSGML v1.0//EN
CALSCALE:GREGORIAN
METHOD:PUBLISH
X-WR-CALNAME:Državna škola za javnu upravu
X-ORIGINAL-URL:https://www.dsju.hr/en
X-WR-CALDESC:Events for Državna škola za javnu upravu
REFRESH-INTERVAL;VALUE=DURATION:PT1H
X-Robots-Tag:noindex
X-PUBLISHED-TTL:PT1H
BEGIN:VTIMEZONE
TZID:Europe/Zagreb
BEGIN:DAYLIGHT
TZOFFSETFROM:+0100
TZOFFSETTO:+0200
TZNAME:CEST
DTSTART:20260329T010000
END:DAYLIGHT
BEGIN:STANDARD
TZOFFSETFROM:+0200
TZOFFSETTO:+0100
TZNAME:CET
DTSTART:20261025T010000
END:STANDARD
END:VTIMEZONE
BEGIN:VEVENT
DTSTART;TZID=Europe/Zagreb:20260330T090000
DTEND;TZID=Europe/Zagreb:20260330T121500
DTSTAMP:20260426T050838
CREATED:20260310T100003Z
LAST-MODIFIED:20260330T070000Z
UID:10001232-1774861200-1774872900@www.dsju.hr
SUMMARY:Sprječavanje korupcije i antikorupcijski mehanizam u RH
DESCRIPTION:Društveno-institucionalni kontekst problema korupcije\nPregled antikorupcijskog mehanizma i nacionalne antikorupcijske politike\nStrateška područja u borbi protiv korupcije\nUzroci i posljedice korupcije\nZakonodavni i institucionalni okvir u područjima povezanim s prevencijom korupcije\nMeđunarodni mehanizmi u suzbijanju korupcije (EU\, OECD\, Vijeće Europe\, drugi)
URL:https://www.dsju.hr/en/event/sprjecavanje-korupcije-i-antikorupcijski-mehanizam-u-rh-14/
ORGANIZER:MAILTO:katarina.svetina@dsju.hr
END:VEVENT
BEGIN:VEVENT
DTSTART;TZID=Europe/Zagreb:20260330T090000
DTEND;TZID=Europe/Zagreb:20260330T160000
DTSTAMP:20260426T050838
CREATED:20260302T080004Z
LAST-MODIFIED:20260330T070000Z
UID:10001220-1774861200-1774886400@www.dsju.hr
SUMMARY:Upravljanje konfliktima
DESCRIPTION:Vrste i uzroci nastanka konflikata\nProces nastanka konflikta\nKomunikacija u svrhu prevencije i rješavanja konflikata\nStilovi reagiranja u konfliktnim situacijama\nPonašanja u konfliktu\nUpravljanje konfliktima i uloge sudionika\nPosljedice konfliktnih situacija
URL:https://www.dsju.hr/en/event/upravljanje-konfliktima-3/
ORGANIZER:MAILTO:katarina.svetina@dsju.hr
END:VEVENT
BEGIN:VEVENT
DTSTART;TZID=Europe/Zagreb:20260330T090000
DTEND;TZID=Europe/Zagreb:20260331T144500
DTSTAMP:20260426T050838
CREATED:20260323T020003Z
LAST-MODIFIED:20260330T070000Z
UID:10001248-1774861200-1774968300@www.dsju.hr
SUMMARY:Osnove nomotehnike
DESCRIPTION:Sadržaj Jedinstvenih metodološko-nomotehničkih pravila za izradu akata koje donosi Hrvatski sabor(“Narodne novine” broj 74/2015)\nSubjekti primjene jedinstvenih metodološko-nomotehničkih pravila\, s posebnim osvrtom na primjenu tih pravila pri donošenju propisa jedinica lokalne i područne (regionalne) samouprave\nVrste i hijerarhija propisa i drugih akata na koje se pri izradi primjenjuju jedinstvena nomotehnička pravila\nUkratko o odnosu nacionalnog zakonodavstva prema EU zakonodavstvu\nNačela ustavnosti\, zakonitosti i vladavine prava\nSadržaj struktura propisa\nOblik (forma) propisa\nJezik\, stil i način pisanja propisa\nPregled jedinstvenih pravila  za izmjene\, dopune i brisanje odredaba ili dijelova propisa
URL:https://www.dsju.hr/en/event/osnove-nomotehnike-10/
ORGANIZER:MAILTO:katarina.svetina@dsju.hr
END:VEVENT
BEGIN:VEVENT
DTSTART;TZID=Europe/Zagreb:20260330T090000
DTEND;TZID=Europe/Zagreb:20260331T161500
DTSTAMP:20260426T050838
CREATED:20260302T040003Z
LAST-MODIFIED:20260330T070000Z
UID:10001225-1774861200-1774973700@www.dsju.hr
SUMMARY:Primjena ZUP-a u praksi
DESCRIPTION:Područje primjene ZUP-a i odnos s drugim propisima\nNačela ZUP-a\nStranka i službena osoba\nPokretanje postupka\nPostupak rješavanja upravne stvari\nDokazivanje\nRješenje i zaključak\nDostava i rokovi\nŽalba i prigovor\nZaštita od postupanja javnopravnih tijela i pružatelja javnih usluga\nIzvanredni pravni lijekovi\nIzvršenje
URL:https://www.dsju.hr/en/event/primjena-zup-a-u-praksi-8/
ORGANIZER:MAILTO:katarina.svetina@dsju.hr
END:VEVENT
BEGIN:VEVENT
DTSTART;TZID=Europe/Zagreb:20260330T090000
DTEND;TZID=Europe/Zagreb:20260331T163000
DTSTAMP:20260426T050838
CREATED:20260325T060003Z
LAST-MODIFIED:20260330T070000Z
UID:10001255-1774861200-1774974600@www.dsju.hr
SUMMARY:Primjena ZUP-a u praksi
DESCRIPTION:Područje primjene ZUP-a i odnos s drugim propisima\nNačela ZUP-a\nStranka i službena osoba\nPokretanje postupka\nPostupak rješavanja upravne stvari\nDokazivanje\nRješenje i zaključak\nDostava i rokovi\nŽalba i prigovor\nZaštita od postupanja javnopravnih tijela i pružatelja javnih usluga\nIzvanredni pravni lijekovi\nIzvršenje
URL:https://www.dsju.hr/en/event/primjena-zup-a-u-praksi-7/
ORGANIZER:MAILTO:katarina.svetina@dsju.hr
END:VEVENT
BEGIN:VEVENT
DTSTART;TZID=Europe/Zagreb:20260330T100000
DTEND;TZID=Europe/Zagreb:20260330T143000
DTSTAMP:20260426T050838
CREATED:20260313T080003Z
LAST-MODIFIED:20260330T080000Z
UID:10001235-1774864800-1774881000@www.dsju.hr
SUMMARY:Pristup informacijama i transparentnost tijela javne vlasti
DESCRIPTION:Rješavanje zahtjeva za pristup informacijama\, zakonska ograničenja\, test\nrazmjernosti i javnog interesa\nŽalbeni postupak i sudski nadzor\, primjeri iz prakse\nProaktivna objava informacija\nOtvoreni podaci\, savjetovanja s javnošću\, javnost rada
URL:https://www.dsju.hr/en/event/pristup-informacijama-i-transparentnost-tijela-javne-vlasti-12/
ORGANIZER:MAILTO:katarina.svetina@dsju.hr
END:VEVENT
END:VCALENDAR